BEGIN:VCALENDAR
VERSION:2.0
PRODID:-//Heritage Christian School - ECPv6.15.20//NONSGML v1.0//EN
CALSCALE:GREGORIAN
METHOD:PUBLISH
X-WR-CALNAME:Heritage Christian School
X-ORIGINAL-URL:https://hcswp.org
X-WR-CALDESC:Events for Heritage Christian School
REFRESH-INTERVAL;VALUE=DURATION:PT1H
X-Robots-Tag:noindex
X-PUBLISHED-TTL:PT1H
BEGIN:VTIMEZONE
TZID:America/New_York
BEGIN:DAYLIGHT
TZOFFSETFROM:-0500
TZOFFSETTO:-0400
TZNAME:EDT
DTSTART:20230312T070000
END:DAYLIGHT
BEGIN:STANDARD
TZOFFSETFROM:-0400
TZOFFSETTO:-0500
TZNAME:EST
DTSTART:20231105T060000
END:STANDARD
BEGIN:DAYLIGHT
TZOFFSETFROM:-0500
TZOFFSETTO:-0400
TZNAME:EDT
DTSTART:20240310T070000
END:DAYLIGHT
BEGIN:STANDARD
TZOFFSETFROM:-0400
TZOFFSETTO:-0500
TZNAME:EST
DTSTART:20241103T060000
END:STANDARD
BEGIN:DAYLIGHT
TZOFFSETFROM:-0500
TZOFFSETTO:-0400
TZNAME:EDT
DTSTART:20250309T070000
END:DAYLIGHT
BEGIN:STANDARD
TZOFFSETFROM:-0400
TZOFFSETTO:-0500
TZNAME:EST
DTSTART:20251102T060000
END:STANDARD
END:VTIMEZONE
BEGIN:VEVENT
DTSTART;VALUE=DATE:20241206
DTEND;VALUE=DATE:20241207
DTSTAMP:20260423T153910
CREATED:20240812T182027Z
LAST-MODIFIED:20240812T182027Z
UID:1728-1733443200-1733529599@hcswp.org
SUMMARY:First Friday
DESCRIPTION:
URL:https://hcswp.org/events/first-friday-4/
END:VEVENT
BEGIN:VEVENT
DTSTART;VALUE=DATE:20241206
DTEND;VALUE=DATE:20241207
DTSTAMP:20260423T153910
CREATED:20240812T175808Z
LAST-MODIFIED:20240812T175808Z
UID:1658-1733443200-1733529599@hcswp.org
SUMMARY:Dress Up Day / HCS Family Dinner
DESCRIPTION:
URL:https://hcswp.org/events/dress-up-day-hcs-family-dinner/
END:VEVENT
BEGIN:VEVENT
DTSTART;VALUE=DATE:20241202
DTEND;VALUE=DATE:20241203
DTSTAMP:20260423T153910
CREATED:20240812T175726Z
LAST-MODIFIED:20240812T175726Z
UID:1656-1733097600-1733183999@hcswp.org
SUMMARY:No School
DESCRIPTION:
URL:https://hcswp.org/events/no-school-5/
END:VEVENT
BEGIN:VEVENT
DTSTART;VALUE=DATE:20241128
DTEND;VALUE=DATE:20241130
DTSTAMP:20260423T153910
CREATED:20240812T175702Z
LAST-MODIFIED:20240812T175702Z
UID:1654-1732752000-1732924799@hcswp.org
SUMMARY:No School
DESCRIPTION:
URL:https://hcswp.org/events/no-school-4/
END:VEVENT
BEGIN:VEVENT
DTSTART;VALUE=DATE:20241127
DTEND;VALUE=DATE:20241128
DTSTAMP:20260423T153910
CREATED:20241122T171237Z
LAST-MODIFIED:20241122T171237Z
UID:1773-1732665600-1732751999@hcswp.org
SUMMARY:Half Day
DESCRIPTION:
URL:https://hcswp.org/events/half-day-3/
END:VEVENT
BEGIN:VEVENT
DTSTART;VALUE=DATE:20241122
DTEND;VALUE=DATE:20241123
DTSTAMP:20260423T153910
CREATED:20240812T175623Z
LAST-MODIFIED:20240812T175623Z
UID:1650-1732233600-1732319999@hcswp.org
SUMMARY:Remember Day
DESCRIPTION:
URL:https://hcswp.org/events/remember-day/
END:VEVENT
BEGIN:VEVENT
DTSTART;VALUE=DATE:20241111
DTEND;VALUE=DATE:20241112
DTSTAMP:20260423T153910
CREATED:20240812T175605Z
LAST-MODIFIED:20240812T175605Z
UID:1648-1731283200-1731369599@hcswp.org
SUMMARY:No School
DESCRIPTION:
URL:https://hcswp.org/events/no-school-3/
END:VEVENT
BEGIN:VEVENT
DTSTART;VALUE=DATE:20241108
DTEND;VALUE=DATE:20241109
DTSTAMP:20260423T153910
CREATED:20240812T175531Z
LAST-MODIFIED:20240812T175531Z
UID:1646-1731024000-1731110399@hcswp.org
SUMMARY:Half Day / G-Club Games
DESCRIPTION:
URL:https://hcswp.org/events/half-day-g-club-games/
END:VEVENT
BEGIN:VEVENT
DTSTART;VALUE=DATE:20241107
DTEND;VALUE=DATE:20241108
DTSTAMP:20260423T153910
CREATED:20240812T175449Z
LAST-MODIFIED:20240812T175449Z
UID:1644-1730937600-1731023999@hcswp.org
SUMMARY:Parent/Teacher Conferences
DESCRIPTION:
URL:https://hcswp.org/events/parent-teacher-conferences/
END:VEVENT
BEGIN:VEVENT
DTSTART;VALUE=DATE:20241101
DTEND;VALUE=DATE:20241102
DTSTAMP:20260423T153910
CREATED:20240812T182013Z
LAST-MODIFIED:20240812T182013Z
UID:1726-1730419200-1730505599@hcswp.org
SUMMARY:First Friday
DESCRIPTION:
URL:https://hcswp.org/events/first-friday-3/
END:VEVENT
BEGIN:VEVENT
DTSTART;VALUE=DATE:20241029
DTEND;VALUE=DATE:20241030
DTSTAMP:20260423T153910
CREATED:20240812T175347Z
LAST-MODIFIED:20240812T175347Z
UID:1642-1730160000-1730246399@hcswp.org
SUMMARY:First Marking Period Ends
DESCRIPTION:
URL:https://hcswp.org/events/first-marking-period-ends/
END:VEVENT
BEGIN:VEVENT
DTSTART;VALUE=DATE:20241025
DTEND;VALUE=DATE:20241026
DTSTAMP:20260423T153910
CREATED:20240812T175314Z
LAST-MODIFIED:20240812T175314Z
UID:1640-1729814400-1729900799@hcswp.org
SUMMARY:Service Trip PM
DESCRIPTION:
URL:https://hcswp.org/events/service-trip-pm/
END:VEVENT
BEGIN:VEVENT
DTSTART;VALUE=DATE:20241018
DTEND;VALUE=DATE:20241019
DTSTAMP:20260423T153910
CREATED:20240812T175248Z
LAST-MODIFIED:20240812T175248Z
UID:1638-1729209600-1729295999@hcswp.org
SUMMARY:Twin/Triplet Day
DESCRIPTION:
URL:https://hcswp.org/events/twin-triplet-day/
END:VEVENT
BEGIN:VEVENT
DTSTART;VALUE=DATE:20241014
DTEND;VALUE=DATE:20241015
DTSTAMP:20260423T153910
CREATED:20240812T175219Z
LAST-MODIFIED:20240812T175219Z
UID:1636-1728864000-1728950399@hcswp.org
SUMMARY:No School
DESCRIPTION:
URL:https://hcswp.org/events/no-school-2/
END:VEVENT
BEGIN:VEVENT
DTSTART;VALUE=DATE:20241011
DTEND;VALUE=DATE:20241013
DTSTAMP:20260423T153910
CREATED:20240812T175151Z
LAST-MODIFIED:20240812T175151Z
UID:1634-1728604800-1728777599@hcswp.org
SUMMARY:Hamburger Stand at Blain Heritage Days
DESCRIPTION:
URL:https://hcswp.org/events/hamburger-stand-at-blain-heritage-days/
END:VEVENT
BEGIN:VEVENT
DTSTART;VALUE=DATE:20241011
DTEND;VALUE=DATE:20241012
DTSTAMP:20260423T153910
CREATED:20240812T175103Z
LAST-MODIFIED:20240812T175103Z
UID:1632-1728604800-1728691199@hcswp.org
SUMMARY:Half Day
DESCRIPTION:
URL:https://hcswp.org/events/half-day-2/
END:VEVENT
BEGIN:VEVENT
DTSTART;VALUE=DATE:20241004
DTEND;VALUE=DATE:20241005
DTSTAMP:20260423T153910
CREATED:20240812T181954Z
LAST-MODIFIED:20240812T181954Z
UID:1724-1728000000-1728086399@hcswp.org
SUMMARY:First Friday
DESCRIPTION:
URL:https://hcswp.org/events/first-friday-2/
END:VEVENT
BEGIN:VEVENT
DTSTART;VALUE=DATE:20240927
DTEND;VALUE=DATE:20240928
DTSTAMP:20260423T153910
CREATED:20240812T175028Z
LAST-MODIFIED:20240812T175028Z
UID:1630-1727395200-1727481599@hcswp.org
SUMMARY:G-Club Lunch & Play
DESCRIPTION:
URL:https://hcswp.org/events/g-club-lunch-play/
END:VEVENT
BEGIN:VEVENT
DTSTART;VALUE=DATE:20240920
DTEND;VALUE=DATE:20240921
DTSTAMP:20260423T153910
CREATED:20240812T174950Z
LAST-MODIFIED:20240812T174950Z
UID:1628-1726790400-1726876799@hcswp.org
SUMMARY:Class Colors Day
DESCRIPTION:
URL:https://hcswp.org/events/class-colors-day/
END:VEVENT
BEGIN:VEVENT
DTSTART;VALUE=DATE:20240906
DTEND;VALUE=DATE:20240907
DTSTAMP:20260423T153910
CREATED:20240812T181936Z
LAST-MODIFIED:20240812T181936Z
UID:1722-1725580800-1725667199@hcswp.org
SUMMARY:First Friday
DESCRIPTION:
URL:https://hcswp.org/events/first-friday/
END:VEVENT
BEGIN:VEVENT
DTSTART;VALUE=DATE:20240902
DTEND;VALUE=DATE:20240903
DTSTAMP:20260423T153910
CREATED:20240812T174926Z
LAST-MODIFIED:20240812T174926Z
UID:1626-1725235200-1725321599@hcswp.org
SUMMARY:No School
DESCRIPTION:
URL:https://hcswp.org/events/no-school/
END:VEVENT
BEGIN:VEVENT
DTSTART;VALUE=DATE:20240830
DTEND;VALUE=DATE:20240831
DTSTAMP:20260423T153910
CREATED:20240812T174823Z
LAST-MODIFIED:20240812T174908Z
UID:1622-1724976000-1725062399@hcswp.org
SUMMARY:Half Day
DESCRIPTION:
URL:https://hcswp.org/events/half-day/
END:VEVENT
BEGIN:VEVENT
DTSTART;VALUE=DATE:20240826
DTEND;VALUE=DATE:20240827
DTSTAMP:20260423T153910
CREATED:20240812T174800Z
LAST-MODIFIED:20240812T174800Z
UID:1620-1724630400-1724716799@hcswp.org
SUMMARY:First Day of School
DESCRIPTION:
URL:https://hcswp.org/events/first-day-of-school/
END:VEVENT
BEGIN:VEVENT
DTSTART;TZID=America/New_York:20240822T190000
DTEND;TZID=America/New_York:20240822T200000
DTSTAMP:20260423T153910
CREATED:20240812T174729Z
LAST-MODIFIED:20240812T174729Z
UID:1618-1724353200-1724356800@hcswp.org
SUMMARY:Association Meeting
DESCRIPTION:
URL:https://hcswp.org/events/association-meeting/
END:VEVENT
BEGIN:VEVENT
DTSTART;TZID=America/New_York:20240822T180000
DTEND;TZID=America/New_York:20240822T190000
DTSTAMP:20260423T153910
CREATED:20240812T174544Z
LAST-MODIFIED:20240812T174701Z
UID:1614-1724349600-1724353200@hcswp.org
SUMMARY:Back to School Night
DESCRIPTION:
URL:https://hcswp.org/events/back-to-school-night/
END:VEVENT
BEGIN:VEVENT
DTSTART;VALUE=DATE:20240816
DTEND;VALUE=DATE:20240817
DTSTAMP:20260423T153910
CREATED:20240812T174400Z
LAST-MODIFIED:20240812T174400Z
UID:1612-1723766400-1723852799@hcswp.org
SUMMARY:Milkshake Stand at the Perry County Fair
DESCRIPTION:
URL:https://hcswp.org/events/milkshake-stand-at-the-perry-county-fair/
END:VEVENT
BEGIN:VEVENT
DTSTART;TZID=America/New_York:20240530T190000
DTEND;TZID=America/New_York:20240530T210000
DTSTAMP:20260423T153910
CREATED:20240319T030420Z
LAST-MODIFIED:20240530T185950Z
UID:1043-1717095600-1717102800@hcswp.org
SUMMARY:Graduation
DESCRIPTION:
URL:https://hcswp.org/events/graduation/
ATTACH;FMTTYPE=image/jpeg:https://hcswp.org/wp-content/uploads/2024/03/pexels-gul-isik-2292837.jpg
END:VEVENT
BEGIN:VEVENT
DTSTART;TZID=America/New_York:20240524T050000
DTEND;TZID=America/New_York:20240524T103000
DTSTAMP:20260423T153910
CREATED:20240319T030110Z
LAST-MODIFIED:20240419T165317Z
UID:1041-1716526800-1716546600@hcswp.org
SUMMARY:Field Day
DESCRIPTION:
URL:https://hcswp.org/events/field-day/
ATTACH;FMTTYPE=image/jpeg:https://hcswp.org/wp-content/uploads/2024/03/Tug_o_war_5798655160.jpg
END:VEVENT
BEGIN:VEVENT
DTSTART;TZID=America/New_York:20240510T043000
DTEND;TZID=America/New_York:20240510T073000
DTSTAMP:20260423T153910
CREATED:20240319T030048Z
LAST-MODIFIED:20240419T165406Z
UID:1039-1715315400-1715326200@hcswp.org
SUMMARY:Living History Fair
DESCRIPTION:
URL:https://hcswp.org/events/living-history-fair/
END:VEVENT
BEGIN:VEVENT
DTSTART;TZID=America/New_York:20240427T120000
DTEND;TZID=America/New_York:20240427T140000
DTSTAMP:20260423T153910
CREATED:20240319T025949Z
LAST-MODIFIED:20240419T165530Z
UID:1035-1714219200-1714226400@hcswp.org
SUMMARY:Drive Thru Ham Ball Dinner
DESCRIPTION:
URL:https://hcswp.org/events/drive-thru-ham-ball-dinner/
END:VEVENT
END:VCALENDAR